BEGIN:VCALENDAR
VERSION:2.0
PRODID:-//South West Fell Runners - ECPv6.15.20//NONSGML v1.0//EN
CALSCALE:GREGORIAN
METHOD:PUBLISH
X-ORIGINAL-URL:https://swfellrunners.uk
X-WR-CALDESC:Events for South West Fell Runners
REFRESH-INTERVAL;VALUE=DURATION:PT1H
X-Robots-Tag:noindex
X-PUBLISHED-TTL:PT1H
BEGIN:VTIMEZONE
TZID:UTC
BEGIN:STANDARD
TZOFFSETFROM:+0000
TZOFFSETTO:+0000
TZNAME:UTC
DTSTART:20210101T000000
END:STANDARD
END:VTIMEZONE
BEGIN:VEVENT
DTSTART;TZID=UTC:20250222T083000
DTEND;TZID=UTC:20250222T113000
DTSTAMP:20260422T002550
CREATED:20250105T195339Z
LAST-MODIFIED:20250126T174611Z
UID:10000070-1740213000-1740223800@swfellrunners.uk
SUMMARY:Dartmoor Winter Pairs race 1
DESCRIPTION:Overview- Bit a of a toughie rated AM by FRA \, with 16k of running plus 813m of ascent. Approximate route from Fox and Hounds start\, Arms tor\, Gt links\, Valley below Kitty\, fordisland ledge\, black tor \, weir \, branscomb loaf\, gren tor\, and valley route back- will be interspersed with some navigational challenge. Pairs only and seniors only. Staggered starts from 8:30; linear route; parking in camping field at Fox and Hounds.
URL:https://swfellrunners.uk/event/dartmoor-winter-pairs-race-1/
LOCATION:Fox and Hounds\, Bridestow
CATEGORIES:Other Fell Race
ORGANIZER;CN="Richard Best":MAILTO:bestrm7@gmail.com
END:VEVENT
BEGIN:VEVENT
DTSTART;TZID=UTC:20230916T090000
DTEND;TZID=UTC:20230916T130000
DTSTAMP:20260422T002550
CREATED:20230423T104712Z
LAST-MODIFIED:20230423T104714Z
UID:10000054-1694854800-1694869200@swfellrunners.uk
SUMMARY:11 Tors Challenge - DRG
DESCRIPTION:A great addition there is a 13 mile running section with obviously great safety cover from DSRG Tavy section. \n\n\n\nSounds like a fun day – medals\, t-shirts available and a BBQ \n\n\n\nNice route
URL:https://swfellrunners.uk/event/11-tors-challenge-drg/
LOCATION:Princetown Car Park\, Princetown\, PL20 6QF
CATEGORIES:Other Fell Race
ATTACH;FMTTYPE=image/jpeg:https://swfellrunners.uk/wp-content/uploads/2023/04/11tors-challenge-2.jpg
END:VEVENT
BEGIN:VEVENT
DTSTART;TZID=UTC:20230906T180000
DTEND;TZID=UTC:20230906T200000
DTSTAMP:20260422T002550
CREATED:20230423T102014Z
LAST-MODIFIED:20230423T102017Z
UID:10000053-1694023200-1694030400@swfellrunners.uk
SUMMARY:Sourton tor race- ORC summer series only - limited entries and juniors- be quick
DESCRIPTION:SWFellrunners says… \nA stunning short but challenging route to finish the series hosted by Okehampton Running club. The race does have parking next to farmers field next to Bearslake Inn\,( between Sourton and Lydford). \nThere is normally junior races held just before seniors. Senior race usually around 7pm. It is only 2.6 miles but has a 1000ft of climb in first 1.2 miles. The route follows a wide track which is fast and level to start but quickly gets steep as it breaks out onto open moor. a sharp rise leads to a left turn into bracken to follow a stream which is crossed to a very steep slope which keeps going for about 200ft you are now on the long convex approach to the top of the tor\,  keep going until you get to the marshal . Then a sharp right turn takes you to a little dip and a nice trod right before a very steep descent back to the gate you cam out on the moor. Super fast track back to the pub. \nCourse records – Male: T. Perry 18:47 (2021) Female: J. Meek :21:52 (2021) \nLatest info form Race organiser – entries open – limited to 50! \nhttps://www.entrycentral.com/SourtonTors Wednesday September 6th – 18:00 Junior start 19:00 Senior start\n\nThe Race\nA traditional fell run of approx 2.6 miles ascending 300m to Sourton Tors and looping back round the valley. There is a compulsory checkpoint near the trig point at Sourton Tors and a further marshal will be positioned before the descent. \nThe route is entirely off-road with most on the open moorland of Dartmoor. Whilst providing a challenge is within the capabilities of most runners. After the race enjoy a drink and a meal in the Bearslake Inn (you may want to book). \nRegistration\nRace Headquarters is at the Bearslake Inn car park at Lake\, on the A386 between Sourton (near Okehampton) & Tavistock. The start & finish is next to Race HQ. Parking will likely be available in the farmers field next door to the pub – we will have a marshal telling you where to park. Prizes for the first male and female and age categories will be awarded. There are no mementoes – reflected in the low entry fee. \nHeld under the rules of the Fell Runners Association\, race classification AS. \nIn keeping with the traditions and skills required of British fell racing\, self-navigation is required by all runners – there are NO course markers. Getting a little lost is part of every fell runner’s journey\, so don’t worry! Go and check out the route before race day if you can – the route will be on the ORC website . \nThe race is licensed by the Fell Runners Association. Whilst there is no mandatory kit requirement if the weather is looking bad then a whistle\, raincoat and hat is advisable. The race is self navigating so you may also want to carry a map and compass if not familiar with the course. \nJuniors can race too. Minimum age of 8. Juniors over 13 can race in the senior race at 7pm as the FRA permits those over 13 to race this distance. All ages under 13 will race at 6pm – distances of either 2km (under 11) or 3km (under 13). Entry on the day at £1 for all juniors – even if they are running in the senior event.
URL:https://swfellrunners.uk/event/sourton-tor-race-orc-summer-series-only-limited-entries-and-juniors-be-quick/
LOCATION:Bearslake INN\, Ex20 4HQ
CATEGORIES:Other Fell Race
ATTACH;FMTTYPE=image/jpeg:https://swfellrunners.uk/wp-content/uploads/2022/03/Sourton-tor-image.jpg
END:VEVENT
BEGIN:VEVENT
DTSTART;TZID=UTC:20230529T100000
DTEND;TZID=UTC:20230529T130000
DTSTAMP:20260422T002550
CREATED:20230423T105517Z
LAST-MODIFIED:20230423T110232Z
UID:10000055-1685354400-1685365200@swfellrunners.uk
SUMMARY:Chagford Two hills
DESCRIPTION:A great village event – multi age group – if you want to get at early bird price buy soon – i generally do a warm up lap then do the race- ?
URL:https://swfellrunners.uk/event/chagford-two-hills/
LOCATION:Chagford cricket pitch
CATEGORIES:Other Fell Race
ATTACH;FMTTYPE=image/jpeg:https://swfellrunners.uk/wp-content/uploads/2023/04/331666143_550175267097492_4365039840182497031_n.jpg
END:VEVENT
BEGIN:VEVENT
DTSTART;TZID=UTC:20220917T120000
DTEND;TZID=UTC:20220917T170000
DTSTAMP:20260422T002550
CREATED:20220307T232154Z
LAST-MODIFIED:20220307T232314Z
UID:10000041-1663416000-1663434000@swfellrunners.uk
SUMMARY:Black mountains Fell race - Mynndd Du
DESCRIPTION:No this is not a SW event but i know many of the regions runner venture that far and with great success. Just over the border with start just above Crick Howell- Llanbedr village. \na proper big mountain fell race with times varying from 2.5 hours to 6hours. 17 tough miles \, big inclines and 1600m of ascent. A classic race – no frills.
URL:https://swfellrunners.uk/event/black-mountains-fell-race-mynndd-du/
CATEGORIES:Other Fell Race
ATTACH;FMTTYPE=image/jpeg:https://swfellrunners.uk/wp-content/uploads/2022/03/pem-allt-mawr.jpg
END:VEVENT
BEGIN:VEVENT
DTSTART;TZID=UTC:20220829T130000
DTEND;TZID=UTC:20220829T150000
DTSTAMP:20260422T002550
CREATED:20220801T055942Z
LAST-MODIFIED:20220812T203242Z
UID:10000044-1661778000-1661785200@swfellrunners.uk
SUMMARY:Peter Tavy Plod
DESCRIPTION:The 19th Annual Peter Tavy Plod & Fun Run 2022 takes place on Monday August 29th at 13:00 (fun run 12:45) \nThis 5 mile run starts from the Peter Tavy Cross and returns via a loop on moorland tracks and trails. \nEntry is £8. \nThe Fun Run is a 1 mile multi terrain loop costing £3 to enter. \nAll profits to Charity. \nRegistration/number collection is from 11:30 at Race HQ near the Village Church. \nThere will be a commemorative medal to all finishers. \nParking will be limited so car share if possible please. \nEnjoy the run and then visit the Village Fayre for a good old fashioned day out with refreshments. \nAlternatively\, enjoy a meal at The Peter Tavy Inn – bookings advisable on 01822 810348. \nSee you there. \nFor any queries contact David Chanter on davechants@me.com or 07815 318145. \nEnter here 
URL:https://swfellrunners.uk/event/peter-tavy-plod/
LOCATION:Peter Tavy\, Village Hall\, Peter Tavy\, Devon\, PL19 9NS\, United Kingdom
CATEGORIES:Other Fell Race
ORGANIZER;CN="Dave Chanter":MAILTO:davechants@me.com
GEO:50.579210303891;-4.099720313245
X-APPLE-STRUCTURED-LOCATION;VALUE=URI;X-ADDRESS=Peter Tavy Village Hall Peter Tavy Devon PL19 9NS United Kingdom;X-APPLE-RADIUS=500;X-TITLE=Village Hall:geo:-4.099720313245,50.579210303891
END:VEVENT
BEGIN:VEVENT
DTSTART;TZID=UTC:20220806T110000
DTEND;TZID=UTC:20220806T143000
DTSTAMP:20260422T002550
CREATED:20220306T193249Z
LAST-MODIFIED:20220306T193249Z
UID:10000038-1659783600-1659796200@swfellrunners.uk
SUMMARY:Sticklepath horseshoe
DESCRIPTION:One of the best runs on Dartmoor ‘hands down’! well hopefully you migth be able to get to this charming event set in the car park to Fingle’s Forge in Sticklepath. \nA great route covering 9 miles. not been held since 2018 due to weather and Covid. \namazing course \nMen: J.Parkinson (2016) – 1:08:49 \nWomen: J.Harvey (2009) – 1:29:23
URL:https://swfellrunners.uk/event/sticklepath-horseshoe/
CATEGORIES:Other Fell Race
END:VEVENT
BEGIN:VEVENT
DTSTART;TZID=UTC:20220605T100000
DTEND;TZID=UTC:20220605T113000
DTSTAMP:20260422T002550
CREATED:20220305T114853Z
LAST-MODIFIED:20220316T194306Z
UID:10000036-1654423200-1654428600@swfellrunners.uk
SUMMARY:Two Hills Race - Chagford
DESCRIPTION:A brilliant village event that has a marvellous show-field start and finish\, and 2 great hills to run up – a very tough 4.5k! Highly recommended.
URL:https://swfellrunners.uk/event/two-hills-race/
CATEGORIES:Other Fell Race
ATTACH;FMTTYPE=image/jpeg:https://swfellrunners.uk/wp-content/uploads/2022/03/5e5acba15d053.jpeg
END:VEVENT
BEGIN:VEVENT
DTSTART;TZID=UTC:20220403T150000
DTEND;TZID=UTC:20220403T173000
DTSTAMP:20260422T002550
CREATED:20220227T161002Z
LAST-MODIFIED:20220330T184104Z
UID:10000026-1648998000-1649007000@swfellrunners.uk
SUMMARY:Intercounty Trials at Peter Tavy
DESCRIPTION:Calling all Devon’s amazing hill runners!\nA great opportunity to preview a new fell course ahead of the Dartmoor Fell Series\, but also a chance to be selected to represent Devon AA at the National Inter-counties Fell Race Championships.\nThis is an open event with a maximum of 50 runners but aimed at Devon EA registered runners who are able to compete on May 7th (LLanberis- seniors) or May 15th (Yorkshire-juniors).\nPre-entry is now available (as there have been so many messages of interest) – £3.50 plus 50p booking (discounted for FRA members). Link below.\nhttps://www.entrycentral.com/langstonetrial\nSenior entry £5 on the day – at Peter Tavy Village Hall ( £1 reduction for FRA members) and juniors U13/U15 and U17 £1 on the day . Please register early – it’s a great course.\nNote junior selection will only be for U15/U17/U19 to compete on May 15th.\nSenior selection must be minimum of 19 yrs on 31st Dec 2022 for competition on May 7th.\nhttps://britishintercountiesfellrunningchampionships.wordpress.com/\nThe course for seniors will be just under 10k with 387m of ascent and amazing views. Juniors start at 4pm\, seniors start at 4:45pm. It would be great to show them ‘up north’ what amazing hill running talent there is in the South West. We are looking for seniors to fill both male and ladies teams of 4-5 people.\nRemember it is a fell run and some kit may be required\, subject to conditions. (rain gear\, hat\, gloves\, whistle\, hat\, compass and map – a map of the course will be provided)\nVolunteer helpers/marshals are very welcome. We are also looking for a club rep. to support the junior team. Please direct message me if you can help.\nThank you\nRichard Best\nDevon AA – Fell Running Coordinator
URL:https://swfellrunners.uk/event/inter-county-trials-at-peter-tavy/
LOCATION:Peter Tavy\, Village Hall\, Peter Tavy\, Devon\, PL19 9NS\, United Kingdom
CATEGORIES:Other Fell Race
ATTACH;FMTTYPE=image/jpeg:https://swfellrunners.uk/wp-content/uploads/2022/02/Langstone-Map-1.jpg
ORGANIZER;CN="Richard Best":MAILTO:bestrm7@gmail.com
GEO:50.579210303891;-4.099720313245
X-APPLE-STRUCTURED-LOCATION;VALUE=URI;X-ADDRESS=Peter Tavy Village Hall Peter Tavy Devon PL19 9NS United Kingdom;X-APPLE-RADIUS=500;X-TITLE=Village Hall:geo:-4.099720313245,50.579210303891
END:VEVENT
END:VCALENDAR