BEGIN:VCALENDAR
VERSION:2.0
PRODID:-//South West Fell Runners - ECPv6.15.20//NONSGML v1.0//EN
CALSCALE:GREGORIAN
METHOD:PUBLISH
X-WR-CALNAME:South West Fell Runners
X-ORIGINAL-URL:https://swfellrunners.uk
X-WR-CALDESC:Events for South West Fell Runners
REFRESH-INTERVAL;VALUE=DURATION:PT1H
X-Robots-Tag:noindex
X-PUBLISHED-TTL:PT1H
BEGIN:VTIMEZONE
TZID:UTC
BEGIN:STANDARD
TZOFFSETFROM:+0000
TZOFFSETTO:+0000
TZNAME:UTC
DTSTART:20250101T000000
END:STANDARD
END:VTIMEZONE
BEGIN:VEVENT
DTSTART;TZID=UTC:20260606T080000
DTEND;TZID=UTC:20260606T170000
DTSTAMP:20260422T085012
CREATED:20260201T204639Z
LAST-MODIFIED:20260201T204707Z
UID:10000079-1780732800-1780765200@swfellrunners.uk
SUMMARY:Oke Croak
DESCRIPTION:Date pending confirmation – check back for more details
URL:https://swfellrunners.uk/event/oke-croak/
CATEGORIES:Dartmoor Fell Series Race
END:VEVENT
BEGIN:VEVENT
DTSTART;TZID=UTC:20260719T100000
DTEND;TZID=UTC:20260719T110000
DTSTAMP:20260422T085012
CREATED:20260217T184704Z
LAST-MODIFIED:20260220T210218Z
UID:10000086-1784455200-1784458800@swfellrunners.uk
SUMMARY:Selworthy Beacon Race
DESCRIPTION:Selworthy Beacon Fell Race: \n\n\n\nThe race is taking place on 19th July 2026\, involving 4 miles with 1000ft gain/loss up to Selworthy Beacon. The route starts at the Bossington National Trust car park\, in traditional fashion the route is completely un-marked. The race is to be a real spicefest\, climbing/descending 1000ft through Hurlstone Combe testing all runners climbing and nerve on the descent. Really Wild Coffee will be on site selling hot drinks.   \n\n\n\nSWFellrunners says …what a great new addition to the series- looks like a cardio test for the racers and likely to offer stunning views to all- worth a try out and earlier in the day to explore the area. \n\n\n\n \n\n\n\nEnter here.
URL:https://swfellrunners.uk/event/selworthy-beacon-race/
LOCATION:Bossington National Trust Car Park TA24 8HQ\, TA24 8HQ
ORGANIZER;CN="Sam Deller":MAILTO:deller.s@hotmail.co.uk
END:VEVENT
BEGIN:VEVENT
DTSTART;TZID=UTC:20260905T173000
DTEND;TZID=UTC:20260905T190000
DTSTAMP:20260422T085012
CREATED:20260201T205421Z
LAST-MODIFIED:20260201T205720Z
UID:10000084-1788629400-1788634800@swfellrunners.uk
SUMMARY:Haytor Heller 2026
DESCRIPTION:the race \n\n\n\nA truly classic race hosted by Teignbridge Trotters\, has the most hill climb of the series at 450m and is just under 10k but it feels more like 8 miles. Really well organised with lots of marshals at all key points.
URL:https://swfellrunners.uk/event/haytor-heller-2026/
LOCATION:haytor vale
CATEGORIES:Dartmoor Fell Series Race
END:VEVENT
BEGIN:VEVENT
DTSTART;TZID=UTC:20260912T111500
DTEND;TZID=UTC:20260912T121500
DTSTAMP:20260422T085012
CREATED:20260201T205519Z
LAST-MODIFIED:20260201T205749Z
UID:10000085-1789211700-1789215300@swfellrunners.uk
SUMMARY:Sourton Tor Race and Series Prizes
DESCRIPTION:Times pending confirmation\n\n\n\n\n\nThe race has changed with a new slightly longer course with even more uphill and a different start. Brilliant fun Sat morning after you have warmed up on the park run! This year this is the last race of the summer series. great parking and an unusual pub!  \n\n\n\n \n\n\n\nJuniors can race too. Minimum age of 8\, parental permission required on entry form. \n\n\n\nJuniors over 13 can race in the senior race at 11:15am as the FRA permits those over 13 to race this distance. \n\n\n\nAll ages under 13 will race at 10:15am – distances of either 2km (under 11) or 3km (under 13) running up the hill and back again on a route that is very easy to navigate (& will be marked). \n\n\n\nEntry on the day at £1 for all juniors – even if they are running in the senior event.
URL:https://swfellrunners.uk/event/sourton-tor-race-and-series-prizes/
LOCATION:Sourton village hall\, next to the church\, Sourton\, ex20 4hn
CATEGORIES:Dartmoor Fell Series Race
END:VEVENT
END:VCALENDAR