BEGIN:VCALENDAR
VERSION:2.0
PRODID:-//South West Fell Runners - ECPv6.15.20//NONSGML v1.0//EN
CALSCALE:GREGORIAN
METHOD:PUBLISH
X-WR-CALNAME:South West Fell Runners
X-ORIGINAL-URL:https://swfellrunners.uk
X-WR-CALDESC:Events for South West Fell Runners
REFRESH-INTERVAL;VALUE=DURATION:PT1H
X-Robots-Tag:noindex
X-PUBLISHED-TTL:PT1H
BEGIN:VTIMEZONE
TZID:UTC
BEGIN:STANDARD
TZOFFSETFROM:+0000
TZOFFSETTO:+0000
TZNAME:UTC
DTSTART:20210101T000000
END:STANDARD
END:VTIMEZONE
BEGIN:VEVENT
DTSTART;TZID=UTC:20250524T160000
DTEND;TZID=UTC:20250524T180000
DTSTAMP:20260422T103142
CREATED:20220304T224433Z
LAST-MODIFIED:20250205T223149Z
UID:10000028-1748102400-1748109600@swfellrunners.uk
SUMMARY:Langstone Fell Race - Dartmoor Fell Series
DESCRIPTION:SwFellrunners says..\nWas Fab last year and great village finish – now open for entries! \nLangstone Fell Race\, starting from Peter Tavy\, this had a great revival in last 3 years . It is the third  event in the Dartmoor Fell Series. The course  record a cracking time  of 43 min 56sec! \n \nThe event is based around Peter Tavy Village Hall and parking will be available in farmers’ fields. \nThere is some brilliant terrain on the course. From the village hall the course follows a winding lane for a few hundred yards which rises steeply and narrows to a gap. It goes across a narrow bridge then up to a moor section to Gt Combe Tor\, through a few gates (please take care to take the best path and close gates) and then you are on open moor ‘proper’. The course takes a slight left then follows a direct path. Keep the rocks to your right as you ascend Cox Tor. There will be a marshal at the summit trig point. From here there will be some very fast running as you drop north into a valley and then out again to follow a track up a long ascent to the next ridge\, Go through a stony ford and head slightly right but keep to good ground following a NE direction to Langstone Standing Stone. \nLast tor before fast descent to finish\nNow there is a very fast descent for 4k passing Boulters Tor on the way! It’s a hard track to start with and then open grass before a steep ridge track brings you back to finish across feilds by the village hall. You cannot miss it as you will be looking down at it! \nJust under 10k with 387m of ascent will test a few. Enjoy! \nJunior races will take place approximately 30 mins before the senior race – please come and watch and support the future of the sport.
URL:https://swfellrunners.uk/event/langstone-fell-race-dartmoor-fell-series/
LOCATION:Peter Tavy\, Village Hall\, Peter Tavy\, Devon\, PL19 9NS\, United Kingdom
CATEGORIES:Dartmoor Fell Series Race
ATTACH;FMTTYPE=image/jpeg:https://swfellrunners.uk/wp-content/uploads/2022/03/Langstone-pic.jpg
ORGANIZER;CN="Dave Chanter":MAILTO:davechants@me.com
GEO:50.579210303891;-4.099720313245
X-APPLE-STRUCTURED-LOCATION;VALUE=URI;X-ADDRESS=Peter Tavy Village Hall Peter Tavy Devon PL19 9NS United Kingdom;X-APPLE-RADIUS=500;X-TITLE=Village Hall:geo:-4.099720313245,50.579210303891
END:VEVENT
BEGIN:VEVENT
DTSTART;TZID=UTC:20230828T130000
DTEND;TZID=UTC:20230828T160000
DTSTAMP:20260422T103142
CREATED:20230727T203557Z
LAST-MODIFIED:20230727T203559Z
UID:10000057-1693227600-1693238400@swfellrunners.uk
SUMMARY:20th Peter Tavy Plod
DESCRIPTION:From the organiser- \n\n\n\nJoin us for the 20th Peter Tavy Plod\, a thrilling event that promises an unforgettable day of fun and excitement! Taking place in the charming village of Peter Tavy\, Devon\, this event is perfect for adventure seekers and nature enthusiasts. \n\n\n\nGet ready to embrace the great outdoors as you embark on a scenic route through the picturesque landscapes of Peter Tavy. Lace up your running shoes and prepare to conquer the challenging trail\, surrounded by breathtaking views and fresh country air. \n\n\n\n \n\n\n\nStarting on Monday August 28 2023 at 13:00 (BST)\, this event guarantees an adrenaline-fueled experience like no other. Whether you’re a seasoned runner or a novice\, the 20th Peter Tavy Plod welcomes participants of all levels. So\, gather your friends\, family\, and fellow adventurers for an afternoon filled with laughter\, camaraderie\, and a hint of friendly competition. \n\n\n\n \n\n\n\nDon’t miss out on this incredible opportunity to explore the beauty of Peter Tavy while pushing your limits. Mark your calendars and join us in Peter Tavy\, Devon\, PL19 9NN\, for an unforgettable event that will leave you with memories to cherish for a lifetime. \n\n\n\nSee you there!
URL:https://swfellrunners.uk/event/20th-peter-tavy-plod/
LOCATION:Peter Tavy\, Village Hall\, Peter Tavy\, Devon\, PL19 9NS\, United Kingdom
ORGANIZER;CN="Dave Chanter":MAILTO:davechants@me.com
GEO:50.579210303891;-4.099720313245
X-APPLE-STRUCTURED-LOCATION;VALUE=URI;X-ADDRESS=Peter Tavy Village Hall Peter Tavy Devon PL19 9NS United Kingdom;X-APPLE-RADIUS=500;X-TITLE=Village Hall:geo:-4.099720313245,50.579210303891
END:VEVENT
BEGIN:VEVENT
DTSTART;TZID=UTC:20230222T193000
DTEND;TZID=UTC:20230222T213000
DTSTAMP:20260422T103142
CREATED:20230201T203020Z
LAST-MODIFIED:20230201T203126Z
UID:10000049-1677094200-1677101400@swfellrunners.uk
SUMMARY:A Talk By Dave Chanter - Achieving Excellence Through Lydiard Principles
DESCRIPTION:
URL:https://swfellrunners.uk/event/a-talk-by-dave-chanter-achieving-excellence-through-lydiard-principles/
LOCATION:Peter Tavy\, Village Hall\, Peter Tavy\, Devon\, PL19 9NS\, United Kingdom
ATTACH;FMTTYPE=image/jpeg:https://swfellrunners.uk/wp-content/uploads/2023/02/Lydiard-Talk-1.jpg
ORGANIZER;CN="Dave Chanter":MAILTO:davechants@me.com
GEO:50.579210303891;-4.099720313245
X-APPLE-STRUCTURED-LOCATION;VALUE=URI;X-ADDRESS=Peter Tavy Village Hall Peter Tavy Devon PL19 9NS United Kingdom;X-APPLE-RADIUS=500;X-TITLE=Village Hall:geo:-4.099720313245,50.579210303891
END:VEVENT
BEGIN:VEVENT
DTSTART;TZID=UTC:20220829T130000
DTEND;TZID=UTC:20220829T150000
DTSTAMP:20260422T103142
CREATED:20220801T055942Z
LAST-MODIFIED:20220812T203242Z
UID:10000044-1661778000-1661785200@swfellrunners.uk
SUMMARY:Peter Tavy Plod
DESCRIPTION:The 19th Annual Peter Tavy Plod & Fun Run 2022 takes place on Monday August 29th at 13:00 (fun run 12:45) \nThis 5 mile run starts from the Peter Tavy Cross and returns via a loop on moorland tracks and trails. \nEntry is £8. \nThe Fun Run is a 1 mile multi terrain loop costing £3 to enter. \nAll profits to Charity. \nRegistration/number collection is from 11:30 at Race HQ near the Village Church. \nThere will be a commemorative medal to all finishers. \nParking will be limited so car share if possible please. \nEnjoy the run and then visit the Village Fayre for a good old fashioned day out with refreshments. \nAlternatively\, enjoy a meal at The Peter Tavy Inn – bookings advisable on 01822 810348. \nSee you there. \nFor any queries contact David Chanter on davechants@me.com or 07815 318145. \nEnter here 
URL:https://swfellrunners.uk/event/peter-tavy-plod/
LOCATION:Peter Tavy\, Village Hall\, Peter Tavy\, Devon\, PL19 9NS\, United Kingdom
CATEGORIES:Other Fell Race
ORGANIZER;CN="Dave Chanter":MAILTO:davechants@me.com
GEO:50.579210303891;-4.099720313245
X-APPLE-STRUCTURED-LOCATION;VALUE=URI;X-ADDRESS=Peter Tavy Village Hall Peter Tavy Devon PL19 9NS United Kingdom;X-APPLE-RADIUS=500;X-TITLE=Village Hall:geo:-4.099720313245,50.579210303891
END:VEVENT
END:VCALENDAR