BEGIN:VCALENDAR
VERSION:2.0
PRODID:-//South West Fell Runners - ECPv6.15.20//NONSGML v1.0//EN
CALSCALE:GREGORIAN
METHOD:PUBLISH
X-WR-CALNAME:South West Fell Runners
X-ORIGINAL-URL:https://swfellrunners.uk
X-WR-CALDESC:Events for South West Fell Runners
REFRESH-INTERVAL;VALUE=DURATION:PT1H
X-Robots-Tag:noindex
X-PUBLISHED-TTL:PT1H
BEGIN:VTIMEZONE
TZID:UTC
BEGIN:STANDARD
TZOFFSETFROM:+0000
TZOFFSETTO:+0000
TZNAME:UTC
DTSTART:20220101T000000
END:STANDARD
END:VTIMEZONE
BEGIN:VEVENT
DTSTART;TZID=UTC:20250420T090000
DTEND;TZID=UTC:20250420T100000
DTSTAMP:20260422T103150
CREATED:20250220T192200Z
LAST-MODIFIED:20250221T151818Z
UID:10000074-1745139600-1745143200@swfellrunners.uk
SUMMARY:Junior's 2025 Devon Team Selection
DESCRIPTION:Devon inter counties championship selection race and other junior races\, held at Meldon Dam. Two distances according to age group. Organised by Colin Kirk-Potter and Tim Mockford. \n\n\n\n \n\n\n\n Distance will vary according to age group U9/U11 will do a shorter course. U13/U15 will do a longer course. U17s and U19s longer still. Category is set by the age at the end of the year. \n\n\n\n \n\n\n\nRacing starts 0930\, registration from 0830 \n\n\n\n \n\n\n\nPlease get in touch if you can help marshal! \n\n\n\n \n\n\n\nRegister in advance here.
URL:https://swfellrunners.uk/event/juniors-2025-devon-team-selection/
LOCATION:Meldon Dam\, Meldon Dam\, Okehampton\, Devon\, ex20 4lu\, United Kingdom
ATTACH;FMTTYPE=image/jpeg:https://swfellrunners.uk/wp-content/uploads/2024/06/444763988_1396171057748661_2710647837283230694_n-1.jpg
ORGANIZER;CN="Tim Mockford":MAILTO:tim.mockford@gmail.com
END:VEVENT
BEGIN:VEVENT
DTSTART;TZID=UTC:20231011T193000
DTEND;TZID=UTC:20231011T210000
DTSTAMP:20260422T103150
CREATED:20230722T155838Z
LAST-MODIFIED:20230801T202348Z
UID:10000056-1697052600-1697058000@swfellrunners.uk
SUMMARY:Course - Race Timing With Webscorer
DESCRIPTION:New date! \n\n\n\n\n\n \n\n\n\nFor the last couple of years\, we have used Webscorer for the series results and majority of race results for the Dartmoor Fell Series. I’ve also used it to time various other events\, some running\, some cycling\, some multi-sport. \n\n\n\n \n\n\n\nHowever\, we need to increase the size of the “timer pool” for the Dartmoor Fell Series (other timing opportunities also available). \n\n\n\n \n\n\n\nThis course focuses on how to time a running race\, on a single device\, using Webscorer. It includes- \n\n\n\n \n\n\n\nWhy use Webscorer?Difference between the most common electronic timing systemsStart list creationSetting up a race on WebscorerWhat makes a good finish line?Timing a raceWhat to do if you click the wrong buttonWhat to do if everything goes wrongBackup systemsResults processing \n\n\n\nIt will include the chance to time a demo race. \n\n\n\n \n\n\n\nThis course is aimed particuarly at fell races\, but is applicable to many other running events. For cycling events that require laps\, for example cross country\, if there is enough interest I’m happy to run a CrossMgr course later. \n\n\n\n \n\n\n\nTea and coffee will also be provided. Cost is to cover use of the hall. \n\n\n\n \n\n\n\nSign up here
URL:https://swfellrunners.uk/event/course-race-timing-with-webscorer/
LOCATION:Peter Tavy\, Village Hall\, Peter Tavy\, Devon\, PL19 9NS\, United Kingdom
CATEGORIES:Course
ATTACH;FMTTYPE=image/jpeg:https://swfellrunners.uk/wp-content/uploads/2023/07/20230712_181945-scaled.jpg
ORGANIZER;CN="Tim Mockford":MAILTO:tim.mockford@gmail.com
GEO:50.579210303891;-4.099720313245
X-APPLE-STRUCTURED-LOCATION;VALUE=URI;X-ADDRESS=Peter Tavy Village Hall Peter Tavy Devon PL19 9NS United Kingdom;X-APPLE-RADIUS=500;X-TITLE=Village Hall:geo:-4.099720313245,50.579210303891
END:VEVENT
END:VCALENDAR